BEGIN:VCALENDAR
VERSION:2.0
PRODID:-//Sri Balaji Temple - ECPv6.3.7//NONSGML v1.0//EN
CALSCALE:GREGORIAN
METHOD:PUBLISH
X-WR-CALNAME:Sri Balaji Temple
X-ORIGINAL-URL:https://sribalajitemple-eu.org
X-WR-CALDESC:Events for Sri Balaji Temple
REFRESH-INTERVAL;VALUE=DURATION:PT1H
X-Robots-Tag:noindex
X-PUBLISHED-TTL:PT1H
BEGIN:VTIMEZONE
TZID:UTC
BEGIN:STANDARD
TZOFFSETFROM:+0000
TZOFFSETTO:+0000
TZNAME:UTC
DTSTART:20240101T000000
END:STANDARD
END:VTIMEZONE
BEGIN:VEVENT
DTSTART;TZID=UTC:20240114T170000
DTEND;TZID=UTC:20240114T183000
DTSTAMP:20260424T195624
CREATED:20240114T113158Z
LAST-MODIFIED:20240114T131953Z
UID:410-1705251600-1705257000@sribalajitemple-eu.org
SUMMARY:Bhogi Pandlu / Bor Nahan /Kari Yeryodu
DESCRIPTION:Bhogi Pandlu / Bor Nahan /Kari Yeryodu is a special ritual involving children. 21€ per child. Timings 5pm to 6:30pm on January 14. Sarvadarshan from 6:30 to 7:00pm
URL:https://sribalajitemple-eu.org/event/bhogi-pandlu-bor-nahan-kari-yeryodu/
LOCATION:SVK Vedic Center\, Pandgat 17\, Oirschot\, 5688KK\, Netherlands
END:VEVENT
END:VCALENDAR