BEGIN:VCALENDAR
VERSION:2.0
PRODID:-//Sri Balaji Temple - ECPv6.3.7//NONSGML v1.0//EN
CALSCALE:GREGORIAN
METHOD:PUBLISH
X-WR-CALNAME:Sri Balaji Temple
X-ORIGINAL-URL:https://sribalajitemple-eu.org
X-WR-CALDESC:Events for Sri Balaji Temple
REFRESH-INTERVAL;VALUE=DURATION:PT1H
X-Robots-Tag:noindex
X-PUBLISHED-TTL:PT1H
BEGIN:VTIMEZONE
TZID:UTC
BEGIN:STANDARD
TZOFFSETFROM:+0000
TZOFFSETTO:+0000
TZNAME:UTC
DTSTART:20240101T000000
END:STANDARD
END:VTIMEZONE
BEGIN:VEVENT
DTSTART;TZID=UTC:20240115T170000
DTEND;TZID=UTC:20240115T190000
DTSTAMP:20260424T195625
CREATED:20240114T113423Z
LAST-MODIFIED:20240114T115712Z
UID:412-1705338000-1705345200@sribalajitemple-eu.org
SUMMARY:Makara Sankranthi / Pongal
DESCRIPTION:Temple will be open from 5:00pm to 7:00pm for Sarvadarshan
URL:https://sribalajitemple-eu.org/event/makara-sankranthi-pongal/
LOCATION:SVK Vedic Center\, Pandgat 17\, Oirschot\, 5688KK\, Netherlands
END:VEVENT
END:VCALENDAR