BEGIN:VCALENDAR
VERSION:2.0
PRODID:-//Sri Balaji Temple - ECPv6.3.7//NONSGML v1.0//EN
CALSCALE:GREGORIAN
METHOD:PUBLISH
X-ORIGINAL-URL:https://sribalajitemple-eu.org
X-WR-CALDESC:Events for Sri Balaji Temple
REFRESH-INTERVAL;VALUE=DURATION:PT1H
X-Robots-Tag:noindex
X-PUBLISHED-TTL:PT1H
BEGIN:VTIMEZONE
TZID:UTC
BEGIN:STANDARD
TZOFFSETFROM:+0000
TZOFFSETTO:+0000
TZNAME:UTC
DTSTART:20250101T000000
END:STANDARD
END:VTIMEZONE
BEGIN:VEVENT
DTSTART;TZID=UTC:20251004T100000
DTEND;TZID=UTC:20251004T113000
DTSTAMP:20260423T135513
CREATED:20250704T055509Z
LAST-MODIFIED:20250704T073257Z
UID:2911-1759572000-1759577400@sribalajitemple-eu.org
SUMMARY:Discourse by Sri Dushyanth Sridhar
DESCRIPTION:
URL:https://sribalajitemple-eu.org/event/discourse-by-sri-dushyanth-sridhar/
ORGANIZER;CN="Stichting Vasudaiva Kutumbakam":MAILTO:svk.admin@sribalajitemple-eu.org
END:VEVENT
END:VCALENDAR