BEGIN:VCALENDAR
VERSION:2.0
PRODID:-//Sri Balaji Temple - ECPv6.3.7//NONSGML v1.0//EN
CALSCALE:GREGORIAN
METHOD:PUBLISH
X-WR-CALNAME:Sri Balaji Temple
X-ORIGINAL-URL:https://sribalajitemple-eu.org
X-WR-CALDESC:Events for Sri Balaji Temple
REFRESH-INTERVAL;VALUE=DURATION:PT1H
X-Robots-Tag:noindex
X-PUBLISHED-TTL:PT1H
BEGIN:VTIMEZONE
TZID:UTC
BEGIN:STANDARD
TZOFFSETFROM:+0000
TZOFFSETTO:+0000
TZNAME:UTC
DTSTART:20260101T000000
END:STANDARD
END:VTIMEZONE
BEGIN:VEVENT
DTSTART;TZID=UTC:20260523T140000
DTEND;TZID=UTC:20260523T190000
DTSTAMP:20260423T233339
CREATED:20260420T143356Z
LAST-MODIFIED:20260420T143645Z
UID:3302-1779544800-1779562800@sribalajitemple-eu.org
SUMMARY:Sri Annamacharya Aradhana - 2026
DESCRIPTION:Sri Annamacharya is a 15th century Hindu saint and one of the earliest Indian musicians to compose songs called sankirtanas in praise of Lord Sri Venkateswara.\n \nStichting Vasudhaiva Kutumbakam(SVK) takes immense pride in commemorating and celebrating the life and legacy of Sri Annamacharya. This celebration will showcase performances by numerous esteemed music and dance schools\, coming together to pay tribute through art and devotion. \n\n\n\n \n\n\n\nJoin us for a soulful event featuring the timeless and divine compositions of the saint\, as we honor his profound contributions to devotional music and Telugu literature. \n\nhttps://sribalajitemple-eu.org/sri-annamacharya-aaradhana-2026/
URL:https://sribalajitemple-eu.org/event/sri-annamacharya-aradhana-2026/
LOCATION:Wijkcentrum Blixems\, Ouverture 2\, Eindhoven\, 5629PV\, Netherlands
END:VEVENT
END:VCALENDAR