BEGIN:VCALENDAR
VERSION:2.0
PRODID:-//Sri Balaji Temple - ECPv6.3.7//NONSGML v1.0//EN
CALSCALE:GREGORIAN
METHOD:PUBLISH
X-WR-CALNAME:Sri Balaji Temple
X-ORIGINAL-URL:https://sribalajitemple-eu.org
X-WR-CALDESC:Events for Sri Balaji Temple
REFRESH-INTERVAL;VALUE=DURATION:PT1H
X-Robots-Tag:noindex
X-PUBLISHED-TTL:PT1H
BEGIN:VTIMEZONE
TZID:UTC
BEGIN:STANDARD
TZOFFSETFROM:+0000
TZOFFSETTO:+0000
TZNAME:UTC
DTSTART:20230101T000000
END:STANDARD
END:VTIMEZONE
BEGIN:VEVENT
DTSTART;TZID=UTC:20230527T073000
DTEND;TZID=UTC:20230527T170000
DTSTAMP:20260419T171530
CREATED:20230504T193949Z
LAST-MODIFIED:20230910T194100Z
UID:82-1685172600-1685206800@sribalajitemple-eu.org
SUMMARY:SHRI BALAJI (SRINIVASA) KALYANA MAHOTSAVAM
DESCRIPTION:Bringing The Grand Sri Balaji Kalyana Event to Eindhoven. \nSri Balaji Kalyana will be performed to the sacred idols graced by Tirumala Tirupati Devasthanams (TTD) \nRegistration link –  https://sribalajitemple-eu.org/shri-balaji-srinivasa-kalyana-mahotsavam/ \n 
URL:https://sribalajitemple-eu.org/event/shri-balaji-srinivasa-kalyana-mahotsavam/
END:VEVENT
BEGIN:VEVENT
DTSTART;TZID=UTC:20230422T170000
DTEND;TZID=UTC:20230422T183000
DTSTAMP:20260419T171530
CREATED:20230504T195706Z
LAST-MODIFIED:20230504T195706Z
UID:93-1682182800-1682188200@sribalajitemple-eu.org
SUMMARY:Bhagavad Gita Parayan
DESCRIPTION:Bhagavad Gita Parayan Chapter 1 &2 \nSri Balaji Archana \nVishnu Sahasranama Parayan
URL:https://sribalajitemple-eu.org/event/bhagavad-gita-parayan/
ATTACH;FMTTYPE=image/jpeg:https://sribalajitemple-eu.org/wp-content/uploads/2023/05/BhagavadGitaParayan.jpeg
END:VEVENT
END:VCALENDAR